BEGIN:VCALENDAR
VERSION:2.0
PRODID:-//SoFA San Jose: SIlicon Valley’s Creative District - ECPv4.5.7.1//NONSGML v1.0//EN
CALSCALE:GREGORIAN
METHOD:PUBLISH
X-WR-CALNAME:SoFA San Jose: SIlicon Valley’s Creative District
X-ORIGINAL-URL:https://sofadistrict.org
X-WR-CALDESC:Events for SoFA San Jose: SIlicon Valley’s Creative District
BEGIN:VEVENT
DTSTART;TZID=UTC+0:20180601T180000
DTEND;TZID=UTC+0:20180602T233000
DTSTAMP:20260424T072623
CREATED:20180521T164059Z
LAST-MODIFIED:20180521T164059Z
UID:436-1527876000-1527982200@sofadistrict.org
SUMMARY:SubZero Festival
DESCRIPTION:South FIRST FRIDAYS presents the 11th Annual SubZERO Festival \nFRIDAY JUNE 1st & SATURDAY JUNE 2nd\, 2018 from 6pm-midnight \nFocused on emerging and present subcultures thriving in our region\, SubZERO is a DIY\, artistically bent\, hi/lo-techno mashup where street meets geek. Come downtown on June 1st & 2nd to San Jose’s SoFA District from 6pm ’til midnight for an inspired evening of arts & culture. In addition to the South FIRST FRIDAYS monthly art walk you’ll find outdoor stages of entertainment plus artists\, performers & musicians celebrating the indie creative spirit! \n
URL:https://sofadistrict.org/events/subzero-festival/
ATTACH;FMTTYPE=image/jpeg:https://sofadistrict.org/wp-content/uploads/2018/05/SubZERO-Festival-June-2018.jpg
END:VEVENT
END:VCALENDAR